BEGIN:VCALENDAR
VERSION:2.0
PRODID:-//Hops N Shine - ECPv6.15.20//NONSGML v1.0//EN
CALSCALE:GREGORIAN
METHOD:PUBLISH
X-WR-CALNAME:Hops N Shine
X-ORIGINAL-URL:https://hopsnshine.com
X-WR-CALDESC:Events for Hops N Shine
REFRESH-INTERVAL;VALUE=DURATION:PT1H
X-Robots-Tag:noindex
X-PUBLISHED-TTL:PT1H
BEGIN:VTIMEZONE
TZID:UTC
BEGIN:STANDARD
TZOFFSETFROM:+0000
TZOFFSETTO:+0000
TZNAME:UTC
DTSTART:20220101T000000
END:STANDARD
END:VTIMEZONE
BEGIN:VEVENT
DTSTART;TZID=UTC:20240516T183000
DTEND;TZID=UTC:20240516T203000
DTSTAMP:20260422T223925
CREATED:20240516T070058Z
LAST-MODIFIED:20240717T184445Z
UID:1421-1715884200-1715891400@hopsnshine.com
SUMMARY:Thursday Trivia Night
DESCRIPTION:What’s the best kept secret bar in Del Ray\, known for over 50 drafts and a premium selection of rotation craft beers? \nThursdays join Hops N Shine for our weekly neighborhood trivia night! \nTrivia begins at 6:30pm\, no cover. Seating is first come\, first serve. \nOur friends from Pour House Trivia host our free trivia night where you and your friends can team up to play for HnS gift cards and merch!
URL:https://hopsnshine.com/event/thursday-trivia-night/
ATTACH;FMTTYPE=image/png:https://hopsnshine.com/wp-content/uploads/2024/05/HnS-Thursday-Trivia-Night.png
END:VEVENT
BEGIN:VEVENT
DTSTART;TZID=UTC:20250718T180000
DTEND;TZID=UTC:20250718T210000
DTSTAMP:20260422T223925
CREATED:20250718T184522Z
LAST-MODIFIED:20250718T184522Z
UID:2063-1752861600-1752872400@hopsnshine.com
SUMMARY:Live Music Fridays at Hops N Shine
DESCRIPTION:Enjoy live music every Friday at Hops N Shine from 6-9pm. Local artists from the DMV playing great music. Come enjoy the vibes\, food\, and endless drink options!
URL:https://hopsnshine.com/event/live-music-fridays-at-hops-n-shine/
ATTACH;FMTTYPE=image/png:https://hopsnshine.com/wp-content/uploads/2025/07/Hops-N-Shine-Event-Banners-2.0-for-web-36.png
END:VEVENT
BEGIN:VEVENT
DTSTART;TZID=UTC:20240210T210000
DTEND;TZID=UTC:20240210T230000
DTSTAMP:20260422T223925
CREATED:20240205T193006Z
LAST-MODIFIED:20240715T221942Z
UID:1345-1707598800-1707606000@hopsnshine.com
SUMMARY:Karaoke Night
DESCRIPTION:Join us every Thursday night for our Karaoke Party hosted by . He is a high energy DJ who gets the party started at 9pm! He has mad DJ skills and will turn tables until he gets the Karaoke portion of the night underway by singing some songs himself. Most people have enough liquid courage in them to get on stage and show off their skills! You have more than 50k songs to choose from\, so come on out and sing your favorite tune!!
URL:https://hopsnshine.com/event/karaoke-night-hns/
LOCATION:Hops N Shine\, 3410 Mount Vernon Ave\, Alexandria\, VA\, 22305\, United States
ORGANIZER;CN="Hops N Shine":MAILTO:info@hopsnshine.com
END:VEVENT
BEGIN:VEVENT
DTSTART;TZID=UTC:20240225T130000
DTEND;TZID=UTC:20240225T170000
DTSTAMP:20260422T223925
CREATED:20240221T161826Z
LAST-MODIFIED:20240221T161826Z
UID:1374-1708866000-1708880400@hopsnshine.com
SUMMARY:Kids Arts & Crafts
DESCRIPTION:
URL:https://hopsnshine.com/event/kids-arts-crafts/
END:VEVENT
BEGIN:VEVENT
DTSTART;TZID=UTC:20230410T150000
DTEND;TZID=UTC:20230410T220000
DTSTAMP:20260422T223925
CREATED:20230410T182709Z
LAST-MODIFIED:20240221T174802Z
UID:1078-1681138800-1681164000@hopsnshine.com
SUMMARY:Cigar Night
DESCRIPTION:Every Monday we host Cigar Night on our patio – BYO cigars! \nEnjoy $6 featured drafts including Two Roads Cruise Control Helles Lager\, and $5 bottles of Hardywood Richmond Lager.
URL:https://hopsnshine.com/event/cigar-night/
LOCATION:Hops N Shine\, 3410 Mount Vernon Ave\, Alexandria\, VA\, 22305\, United States
END:VEVENT
BEGIN:VEVENT
DTSTART;TZID=UTC:20240515T183000
DTEND;TZID=UTC:20240515T203000
DTSTAMP:20260422T223925
CREATED:20240221T182716Z
LAST-MODIFIED:20240717T192540Z
UID:1418-1715797800-1715805000@hopsnshine.com
SUMMARY:Wednesday Trivia Night
DESCRIPTION:What’s the best kept secret bar in Del Ray\, known for over 50 drafts and a premium selection of rotation craft beers? \nWednesdays join Hops N Shine for our weekly neighborhood trivia night! \nTrivia begins at 6:30pm\, no cover. Seating is first come\, first serve. \nOur friends from Pour House Trivia host our free trivia night where you and your friends can team up to play for HnS gift cards and swag!
URL:https://hopsnshine.com/event/trivia-night-wed/
LOCATION:Hops N Shine\, 3410 Mount Vernon Ave\, Alexandria\, VA\, 22305\, United States
ATTACH;FMTTYPE=image/png:https://hopsnshine.com/wp-content/uploads/2024/05/HnS-Wednesday-Trivia-Night.png
END:VEVENT
BEGIN:VEVENT
DTSTART;TZID=UTC:20240516T183000
DTEND;TZID=UTC:20240516T203000
DTSTAMP:20260422T223925
CREATED:20240516T070058Z
LAST-MODIFIED:20240717T184445Z
UID:1421-1715884200-1715891400@hopsnshine.com
SUMMARY:Thursday Trivia Night
DESCRIPTION:What’s the best kept secret bar in Del Ray\, known for over 50 drafts and a premium selection of rotation craft beers? \nThursdays join Hops N Shine for our weekly neighborhood trivia night! \nTrivia begins at 6:30pm\, no cover. Seating is first come\, first serve. \nOur friends from Pour House Trivia host our free trivia night where you and your friends can team up to play for HnS gift cards and merch!
URL:https://hopsnshine.com/event/thursday-trivia-night/
ATTACH;FMTTYPE=image/png:https://hopsnshine.com/wp-content/uploads/2024/05/HnS-Thursday-Trivia-Night.png
END:VEVENT
BEGIN:VEVENT
DTSTART;TZID=UTC:20250718T180000
DTEND;TZID=UTC:20250718T210000
DTSTAMP:20260422T223925
CREATED:20250718T184522Z
LAST-MODIFIED:20250718T184522Z
UID:2063-1752861600-1752872400@hopsnshine.com
SUMMARY:Live Music Fridays at Hops N Shine
DESCRIPTION:Enjoy live music every Friday at Hops N Shine from 6-9pm. Local artists from the DMV playing great music. Come enjoy the vibes\, food\, and endless drink options!
URL:https://hopsnshine.com/event/live-music-fridays-at-hops-n-shine/
ATTACH;FMTTYPE=image/png:https://hopsnshine.com/wp-content/uploads/2025/07/Hops-N-Shine-Event-Banners-2.0-for-web-36.png
END:VEVENT
BEGIN:VEVENT
DTSTART;TZID=UTC:20251122T130000
DTEND;TZID=UTC:20251122T170000
DTSTAMP:20260422T223925
CREATED:20251114T180801Z
LAST-MODIFIED:20251114T180801Z
UID:2159-1763816400-1763830800@hopsnshine.com
SUMMARY:Friendsgiving for Little Turkeys
DESCRIPTION:Saturday\, November 22nd • 1–5 PM \n3410 Mt Vernon Ave\, Alexandria\, VA 22305 \nFREE ENTRY \n🍂 Join us at Hops N Shine for a heartwarming afternoon of fall fun at Friendsgiving for Little Turkeys! This family-friendly celebration is the perfect way for kids to enjoy the spirit of Friendsgiving with turkey coloring pages\, good food\, and outdoor yard games! 🦃 \nWe’re also hosting a Food Drive for Veterans\, so bring a non-perishable item and help us give back to those who have served our community. \nBring the whole family\, gather with friends\, and enjoy an afternoon full of gratitude\, giggles\, and giving back. \nSee you at Hops N Shine! ❤️
URL:https://hopsnshine.com/event/friendsgiving-for-little-turkeys/
LOCATION:Hops N Shine\, 3410 Mount Vernon Ave\, Alexandria\, VA\, 22305\, United States
ATTACH;FMTTYPE=image/png:https://hopsnshine.com/wp-content/uploads/2025/11/9.png
ORGANIZER;CN="Hops N Shine":MAILTO:info@hopsnshine.com
END:VEVENT
BEGIN:VEVENT
DTSTART;TZID=UTC:20240210T210000
DTEND;TZID=UTC:20240210T230000
DTSTAMP:20260422T223925
CREATED:20240205T193006Z
LAST-MODIFIED:20240715T221942Z
UID:1345-1707598800-1707606000@hopsnshine.com
SUMMARY:Karaoke Night
DESCRIPTION:Join us every Thursday night for our Karaoke Party hosted by . He is a high energy DJ who gets the party started at 9pm! He has mad DJ skills and will turn tables until he gets the Karaoke portion of the night underway by singing some songs himself. Most people have enough liquid courage in them to get on stage and show off their skills! You have more than 50k songs to choose from\, so come on out and sing your favorite tune!!
URL:https://hopsnshine.com/event/karaoke-night-hns/
LOCATION:Hops N Shine\, 3410 Mount Vernon Ave\, Alexandria\, VA\, 22305\, United States
ORGANIZER;CN="Hops N Shine":MAILTO:info@hopsnshine.com
END:VEVENT
BEGIN:VEVENT
DTSTART;TZID=UTC:20240225T130000
DTEND;TZID=UTC:20240225T170000
DTSTAMP:20260422T223925
CREATED:20240221T161826Z
LAST-MODIFIED:20240221T161826Z
UID:1374-1708866000-1708880400@hopsnshine.com
SUMMARY:Kids Arts & Crafts
DESCRIPTION:
URL:https://hopsnshine.com/event/kids-arts-crafts/
END:VEVENT
BEGIN:VEVENT
DTSTART;TZID=UTC:20251123T130000
DTEND;TZID=UTC:20251123T170000
DTSTAMP:20260422T223925
CREATED:20251114T180908Z
LAST-MODIFIED:20251118T173906Z
UID:2162-1763902800-1763917200@hopsnshine.com
SUMMARY:Friendsgiving
DESCRIPTION:Sunday\, November 23rd • 1–5 PM \n3410 Mt Vernon Ave\, Alexandria\, VA 22305 \nFREE ENTRY \nCelebrate the season of gratitude with us at Hops N Shine’s Friendsgiving! Gather your friends\, family\, and neighbors for a cozy afternoon filled with fall vibes\, festive flavors\, and community spirit. \nWe’ll also be hosting a Food Drive for Veterans\, so bring a non-perishable food item and help support those who have served our country. \nTo keep you warm and toasty\, we’re rolling out a special Hot Drinks Menu featuring seasonal favorites—perfect for sipping while enjoying the crisp autumn afternoon. \nEvent Highlights: \n🍁 Festive Friendsgiving celebration \n🦃 Food Drive benefiting local veterans \n🎶 Great vibes & community hangout \n🍂 Cozy fall atmosphere\, perfect for families & friends \n  \nJoin us for an afternoon of warmth\, good company\, and giving back. \nSee you at Hops N Shine!
URL:https://hopsnshine.com/event/friendsgiving/
LOCATION:Hops N Shine\, 3410 Mount Vernon Ave\, Alexandria\, VA\, 22305\, United States
ATTACH;FMTTYPE=image/png:https://hopsnshine.com/wp-content/uploads/2025/11/10.png
ORGANIZER;CN="Hops N Shine":MAILTO:info@hopsnshine.com
END:VEVENT
BEGIN:VEVENT
DTSTART;TZID=UTC:20230410T150000
DTEND;TZID=UTC:20230410T220000
DTSTAMP:20260422T223925
CREATED:20230410T182709Z
LAST-MODIFIED:20240221T174802Z
UID:1078-1681138800-1681164000@hopsnshine.com
SUMMARY:Cigar Night
DESCRIPTION:Every Monday we host Cigar Night on our patio – BYO cigars! \nEnjoy $6 featured drafts including Two Roads Cruise Control Helles Lager\, and $5 bottles of Hardywood Richmond Lager.
URL:https://hopsnshine.com/event/cigar-night/
LOCATION:Hops N Shine\, 3410 Mount Vernon Ave\, Alexandria\, VA\, 22305\, United States
END:VEVENT
BEGIN:VEVENT
DTSTART;TZID=UTC:20251126T110000
DTEND;TZID=UTC:20251126T220000
DTSTAMP:20260422T223925
CREATED:20251114T181033Z
LAST-MODIFIED:20251114T181250Z
UID:2165-1764154800-1764194400@hopsnshine.com
SUMMARY:Gobble Til You Wobble Wednesday
DESCRIPTION:Wednesday\, November 26th • 11 AM–10 PM \n3410 Mt Vernon Ave\, Alexandria\, VA 22305 \nFREE ENTRY \nKick off Thanksgiving weekend the right way—surrounded by your hometown friends\, great food\, and good vibes at Gobble Til You Wobble Wednesday! Hops N Shine is your go-to spot the day before Thanksgiving\, whether you’re back in town visiting family or just ready to start the holiday fun early. \nEnjoy delicious eats\, refreshing drinks\, cozy fall flavors\, and the perfect atmosphere to reconnect with old friends and make new memories. \nEvent Highlights: \n🦃 All-day hangout from 11 AM to 10 PM \n🍻 Craft beers\, cocktails & fall drink specials \n🍔 Full menu of comfort-food favorites \n🍂 Warm\, festive\, hometown vibe \n🎉 The perfect pre-Thanksgiving meetup spot \nGrab your crew and wobble on over—let’s make the night before Thanksgiving unforgettable! \nSee you at Hops N Shine!
URL:https://hopsnshine.com/event/gobble-til-you-wobble-wednesday/
LOCATION:Hops N Shine\, 3410 Mount Vernon Ave\, Alexandria\, VA\, 22305\, United States
ATTACH;FMTTYPE=image/png:https://hopsnshine.com/wp-content/uploads/2025/11/Hops-N-Shine-Event-Banners-2.0-for-web-11.png
ORGANIZER;CN="Hops N Shine":MAILTO:info@hopsnshine.com
END:VEVENT
BEGIN:VEVENT
DTSTART;TZID=UTC:20240515T183000
DTEND;TZID=UTC:20240515T203000
DTSTAMP:20260422T223925
CREATED:20240221T182716Z
LAST-MODIFIED:20240717T192540Z
UID:1418-1715797800-1715805000@hopsnshine.com
SUMMARY:Wednesday Trivia Night
DESCRIPTION:What’s the best kept secret bar in Del Ray\, known for over 50 drafts and a premium selection of rotation craft beers? \nWednesdays join Hops N Shine for our weekly neighborhood trivia night! \nTrivia begins at 6:30pm\, no cover. Seating is first come\, first serve. \nOur friends from Pour House Trivia host our free trivia night where you and your friends can team up to play for HnS gift cards and swag!
URL:https://hopsnshine.com/event/trivia-night-wed/
LOCATION:Hops N Shine\, 3410 Mount Vernon Ave\, Alexandria\, VA\, 22305\, United States
ATTACH;FMTTYPE=image/png:https://hopsnshine.com/wp-content/uploads/2024/05/HnS-Wednesday-Trivia-Night.png
END:VEVENT
BEGIN:VEVENT
DTSTART;TZID=UTC:20240516T183000
DTEND;TZID=UTC:20240516T203000
DTSTAMP:20260422T223925
CREATED:20240516T070058Z
LAST-MODIFIED:20240717T184445Z
UID:1421-1715884200-1715891400@hopsnshine.com
SUMMARY:Thursday Trivia Night
DESCRIPTION:What’s the best kept secret bar in Del Ray\, known for over 50 drafts and a premium selection of rotation craft beers? \nThursdays join Hops N Shine for our weekly neighborhood trivia night! \nTrivia begins at 6:30pm\, no cover. Seating is first come\, first serve. \nOur friends from Pour House Trivia host our free trivia night where you and your friends can team up to play for HnS gift cards and merch!
URL:https://hopsnshine.com/event/thursday-trivia-night/
ATTACH;FMTTYPE=image/png:https://hopsnshine.com/wp-content/uploads/2024/05/HnS-Thursday-Trivia-Night.png
END:VEVENT
BEGIN:VEVENT
DTSTART;TZID=UTC:20250718T180000
DTEND;TZID=UTC:20250718T210000
DTSTAMP:20260422T223925
CREATED:20250718T184522Z
LAST-MODIFIED:20250718T184522Z
UID:2063-1752861600-1752872400@hopsnshine.com
SUMMARY:Live Music Fridays at Hops N Shine
DESCRIPTION:Enjoy live music every Friday at Hops N Shine from 6-9pm. Local artists from the DMV playing great music. Come enjoy the vibes\, food\, and endless drink options!
URL:https://hopsnshine.com/event/live-music-fridays-at-hops-n-shine/
ATTACH;FMTTYPE=image/png:https://hopsnshine.com/wp-content/uploads/2025/07/Hops-N-Shine-Event-Banners-2.0-for-web-36.png
END:VEVENT
BEGIN:VEVENT
DTSTART;TZID=UTC:20251129T130000
DTEND;TZID=UTC:20251129T170000
DTSTAMP:20260422T223925
CREATED:20251114T181213Z
LAST-MODIFIED:20251114T181213Z
UID:2168-1764421200-1764435600@hopsnshine.com
SUMMARY:Pupsgiving on the Patio
DESCRIPTION:Saturday\, November 29th • 1–5 PM \n3410 Mt Vernon Ave\, Alexandria\, VA 22305 \nFREE ENTRY • DOGS WELCOME \nCelebrate Thanksgiving weekend with your four-legged best friends at Pupsgiving on the Patio! Bring your pups and enjoy a relaxed\, dog-friendly afternoon on our patio with great drinks\, good food\, and plenty of space to hang out. \nEvent Highlights: \n🐾 Dog-friendly patio all afternoon \n🍻 Full bar & drink menus for the humans \n🍔 Order delicious food from our kitchen \n🪑 Casual\, laid-back atmosphere perfect for dogs and their owners \nWhether you’re meeting friends\, grabbing a drink\, or just getting some fresh air with your pup\, Hops N Shine is the place to be. \nSee you and your pups on the patio!
URL:https://hopsnshine.com/event/pupsgiving-on-the-patio/
LOCATION:Hops N Shine\, 3410 Mount Vernon Ave\, Alexandria\, VA\, 22305\, United States
ATTACH;FMTTYPE=image/png:https://hopsnshine.com/wp-content/uploads/2025/11/11.png
ORGANIZER;CN="Hops N Shine":MAILTO:info@hopsnshine.com
END:VEVENT
BEGIN:VEVENT
DTSTART;TZID=UTC:20240210T210000
DTEND;TZID=UTC:20240210T230000
DTSTAMP:20260422T223925
CREATED:20240205T193006Z
LAST-MODIFIED:20240715T221942Z
UID:1345-1707598800-1707606000@hopsnshine.com
SUMMARY:Karaoke Night
DESCRIPTION:Join us every Thursday night for our Karaoke Party hosted by . He is a high energy DJ who gets the party started at 9pm! He has mad DJ skills and will turn tables until he gets the Karaoke portion of the night underway by singing some songs himself. Most people have enough liquid courage in them to get on stage and show off their skills! You have more than 50k songs to choose from\, so come on out and sing your favorite tune!!
URL:https://hopsnshine.com/event/karaoke-night-hns/
LOCATION:Hops N Shine\, 3410 Mount Vernon Ave\, Alexandria\, VA\, 22305\, United States
ORGANIZER;CN="Hops N Shine":MAILTO:info@hopsnshine.com
END:VEVENT
BEGIN:VEVENT
DTSTART;TZID=UTC:20240225T130000
DTEND;TZID=UTC:20240225T170000
DTSTAMP:20260422T223925
CREATED:20240221T161826Z
LAST-MODIFIED:20240221T161826Z
UID:1374-1708866000-1708880400@hopsnshine.com
SUMMARY:Kids Arts & Crafts
DESCRIPTION:
URL:https://hopsnshine.com/event/kids-arts-crafts/
END:VEVENT
BEGIN:VEVENT
DTSTART;TZID=UTC:20230410T150000
DTEND;TZID=UTC:20230410T220000
DTSTAMP:20260422T223925
CREATED:20230410T182709Z
LAST-MODIFIED:20240221T174802Z
UID:1078-1681138800-1681164000@hopsnshine.com
SUMMARY:Cigar Night
DESCRIPTION:Every Monday we host Cigar Night on our patio – BYO cigars! \nEnjoy $6 featured drafts including Two Roads Cruise Control Helles Lager\, and $5 bottles of Hardywood Richmond Lager.
URL:https://hopsnshine.com/event/cigar-night/
LOCATION:Hops N Shine\, 3410 Mount Vernon Ave\, Alexandria\, VA\, 22305\, United States
END:VEVENT
BEGIN:VEVENT
DTSTART;TZID=UTC:20240515T183000
DTEND;TZID=UTC:20240515T203000
DTSTAMP:20260422T223925
CREATED:20240221T182716Z
LAST-MODIFIED:20240717T192540Z
UID:1418-1715797800-1715805000@hopsnshine.com
SUMMARY:Wednesday Trivia Night
DESCRIPTION:What’s the best kept secret bar in Del Ray\, known for over 50 drafts and a premium selection of rotation craft beers? \nWednesdays join Hops N Shine for our weekly neighborhood trivia night! \nTrivia begins at 6:30pm\, no cover. Seating is first come\, first serve. \nOur friends from Pour House Trivia host our free trivia night where you and your friends can team up to play for HnS gift cards and swag!
URL:https://hopsnshine.com/event/trivia-night-wed/
LOCATION:Hops N Shine\, 3410 Mount Vernon Ave\, Alexandria\, VA\, 22305\, United States
ATTACH;FMTTYPE=image/png:https://hopsnshine.com/wp-content/uploads/2024/05/HnS-Wednesday-Trivia-Night.png
END:VEVENT
BEGIN:VEVENT
DTSTART;TZID=UTC:20240516T183000
DTEND;TZID=UTC:20240516T203000
DTSTAMP:20260422T223925
CREATED:20240516T070058Z
LAST-MODIFIED:20240717T184445Z
UID:1421-1715884200-1715891400@hopsnshine.com
SUMMARY:Thursday Trivia Night
DESCRIPTION:What’s the best kept secret bar in Del Ray\, known for over 50 drafts and a premium selection of rotation craft beers? \nThursdays join Hops N Shine for our weekly neighborhood trivia night! \nTrivia begins at 6:30pm\, no cover. Seating is first come\, first serve. \nOur friends from Pour House Trivia host our free trivia night where you and your friends can team up to play for HnS gift cards and merch!
URL:https://hopsnshine.com/event/thursday-trivia-night/
ATTACH;FMTTYPE=image/png:https://hopsnshine.com/wp-content/uploads/2024/05/HnS-Thursday-Trivia-Night.png
END:VEVENT
BEGIN:VEVENT
DTSTART;TZID=UTC:20250718T180000
DTEND;TZID=UTC:20250718T210000
DTSTAMP:20260422T223925
CREATED:20250718T184522Z
LAST-MODIFIED:20250718T184522Z
UID:2063-1752861600-1752872400@hopsnshine.com
SUMMARY:Live Music Fridays at Hops N Shine
DESCRIPTION:Enjoy live music every Friday at Hops N Shine from 6-9pm. Local artists from the DMV playing great music. Come enjoy the vibes\, food\, and endless drink options!
URL:https://hopsnshine.com/event/live-music-fridays-at-hops-n-shine/
ATTACH;FMTTYPE=image/png:https://hopsnshine.com/wp-content/uploads/2025/07/Hops-N-Shine-Event-Banners-2.0-for-web-36.png
END:VEVENT
BEGIN:VEVENT
DTSTART;TZID=UTC:20240210T210000
DTEND;TZID=UTC:20240210T230000
DTSTAMP:20260422T223925
CREATED:20240205T193006Z
LAST-MODIFIED:20240715T221942Z
UID:1345-1707598800-1707606000@hopsnshine.com
SUMMARY:Karaoke Night
DESCRIPTION:Join us every Thursday night for our Karaoke Party hosted by . He is a high energy DJ who gets the party started at 9pm! He has mad DJ skills and will turn tables until he gets the Karaoke portion of the night underway by singing some songs himself. Most people have enough liquid courage in them to get on stage and show off their skills! You have more than 50k songs to choose from\, so come on out and sing your favorite tune!!
URL:https://hopsnshine.com/event/karaoke-night-hns/
LOCATION:Hops N Shine\, 3410 Mount Vernon Ave\, Alexandria\, VA\, 22305\, United States
ORGANIZER;CN="Hops N Shine":MAILTO:info@hopsnshine.com
END:VEVENT
BEGIN:VEVENT
DTSTART;TZID=UTC:20240225T130000
DTEND;TZID=UTC:20240225T170000
DTSTAMP:20260422T223925
CREATED:20240221T161826Z
LAST-MODIFIED:20240221T161826Z
UID:1374-1708866000-1708880400@hopsnshine.com
SUMMARY:Kids Arts & Crafts
DESCRIPTION:
URL:https://hopsnshine.com/event/kids-arts-crafts/
END:VEVENT
BEGIN:VEVENT
DTSTART;TZID=UTC:20230410T150000
DTEND;TZID=UTC:20230410T220000
DTSTAMP:20260422T223925
CREATED:20230410T182709Z
LAST-MODIFIED:20240221T174802Z
UID:1078-1681138800-1681164000@hopsnshine.com
SUMMARY:Cigar Night
DESCRIPTION:Every Monday we host Cigar Night on our patio – BYO cigars! \nEnjoy $6 featured drafts including Two Roads Cruise Control Helles Lager\, and $5 bottles of Hardywood Richmond Lager.
URL:https://hopsnshine.com/event/cigar-night/
LOCATION:Hops N Shine\, 3410 Mount Vernon Ave\, Alexandria\, VA\, 22305\, United States
END:VEVENT
BEGIN:VEVENT
DTSTART;TZID=UTC:20240515T183000
DTEND;TZID=UTC:20240515T203000
DTSTAMP:20260422T223925
CREATED:20240221T182716Z
LAST-MODIFIED:20240717T192540Z
UID:1418-1715797800-1715805000@hopsnshine.com
SUMMARY:Wednesday Trivia Night
DESCRIPTION:What’s the best kept secret bar in Del Ray\, known for over 50 drafts and a premium selection of rotation craft beers? \nWednesdays join Hops N Shine for our weekly neighborhood trivia night! \nTrivia begins at 6:30pm\, no cover. Seating is first come\, first serve. \nOur friends from Pour House Trivia host our free trivia night where you and your friends can team up to play for HnS gift cards and swag!
URL:https://hopsnshine.com/event/trivia-night-wed/
LOCATION:Hops N Shine\, 3410 Mount Vernon Ave\, Alexandria\, VA\, 22305\, United States
ATTACH;FMTTYPE=image/png:https://hopsnshine.com/wp-content/uploads/2024/05/HnS-Wednesday-Trivia-Night.png
END:VEVENT
BEGIN:VEVENT
DTSTART;TZID=UTC:20240516T183000
DTEND;TZID=UTC:20240516T203000
DTSTAMP:20260422T223925
CREATED:20240516T070058Z
LAST-MODIFIED:20240717T184445Z
UID:1421-1715884200-1715891400@hopsnshine.com
SUMMARY:Thursday Trivia Night
DESCRIPTION:What’s the best kept secret bar in Del Ray\, known for over 50 drafts and a premium selection of rotation craft beers? \nThursdays join Hops N Shine for our weekly neighborhood trivia night! \nTrivia begins at 6:30pm\, no cover. Seating is first come\, first serve. \nOur friends from Pour House Trivia host our free trivia night where you and your friends can team up to play for HnS gift cards and merch!
URL:https://hopsnshine.com/event/thursday-trivia-night/
ATTACH;FMTTYPE=image/png:https://hopsnshine.com/wp-content/uploads/2024/05/HnS-Thursday-Trivia-Night.png
END:VEVENT
BEGIN:VEVENT
DTSTART;TZID=UTC:20250718T180000
DTEND;TZID=UTC:20250718T210000
DTSTAMP:20260422T223925
CREATED:20250718T184522Z
LAST-MODIFIED:20250718T184522Z
UID:2063-1752861600-1752872400@hopsnshine.com
SUMMARY:Live Music Fridays at Hops N Shine
DESCRIPTION:Enjoy live music every Friday at Hops N Shine from 6-9pm. Local artists from the DMV playing great music. Come enjoy the vibes\, food\, and endless drink options!
URL:https://hopsnshine.com/event/live-music-fridays-at-hops-n-shine/
ATTACH;FMTTYPE=image/png:https://hopsnshine.com/wp-content/uploads/2025/07/Hops-N-Shine-Event-Banners-2.0-for-web-36.png
END:VEVENT
END:VCALENDAR