BEGIN:VCALENDAR
VERSION:2.0
PRODID:-//Hops N Shine - ECPv6.15.20//NONSGML v1.0//EN
CALSCALE:GREGORIAN
METHOD:PUBLISH
X-WR-CALNAME:Hops N Shine
X-ORIGINAL-URL:https://hopsnshine.com
X-WR-CALDESC:Events for Hops N Shine
REFRESH-INTERVAL;VALUE=DURATION:PT1H
X-Robots-Tag:noindex
X-PUBLISHED-TTL:PT1H
BEGIN:VTIMEZONE
TZID:UTC
BEGIN:STANDARD
TZOFFSETFROM:+0000
TZOFFSETTO:+0000
TZNAME:UTC
DTSTART:20220101T000000
END:STANDARD
END:VTIMEZONE
BEGIN:VEVENT
DTSTART;TZID=UTC:20230410T150000
DTEND;TZID=UTC:20230410T220000
DTSTAMP:20260422T221910
CREATED:20230410T182709Z
LAST-MODIFIED:20240221T174802Z
UID:1078-1681138800-1681164000@hopsnshine.com
SUMMARY:Cigar Night
DESCRIPTION:Every Monday we host Cigar Night on our patio – BYO cigars! \nEnjoy $6 featured drafts including Two Roads Cruise Control Helles Lager\, and $5 bottles of Hardywood Richmond Lager.
URL:https://hopsnshine.com/event/cigar-night/
LOCATION:Hops N Shine\, 3410 Mount Vernon Ave\, Alexandria\, VA\, 22305\, United States
END:VEVENT
BEGIN:VEVENT
DTSTART;TZID=UTC:20260106T183000
DTEND;TZID=UTC:20260106T193000
DTSTAMP:20260422T221910
CREATED:20251226T171542Z
LAST-MODIFIED:20251226T192251Z
UID:2194-1767724200-1767727800@hopsnshine.com
SUMMARY:In-Person Speed Dating / Ages 25-40
DESCRIPTION:Stop swiping & start dating. Leave the anxiety at home & come make some new friends! Go on several fast\, fun\, mini-dates in one night.\n\n\n\nHelloSingles® is DMV’s newest professional singles event organizer\, specializing in matchmaking and helping single adults make real connections. \n\nWHAT WE DO: Play cupid.\nWHAT WE DON’T DO: Boring events.\n\nOur speed dating events are fast\, fun\, a lil’ crazy\, and always well organized. \nWhat to expect: \n\nPLEASE arrive on time. Late-comers affect the event’s flow & we can’t promise late arrivals will meet everyone during the rounds.\nFind the check in area & Host.\nYour advance ticket purchase means you’re on the guest list. Just provide your name for entry.\nObtain a name tag & hang out until everyone’s checked-in. (This is a great time to use the restroom\, grab a cocktail\, or scan our QR code to stay updated on our IG).\nHost will provide an overview of how it works.\nDaters will go on speed-dates lasting 4-6 minutes per date. Host will faciltate the time and movement\, making sure everyone gets a chance to meet potential matches.\nComplete match sheets\, take a pic\, and hand it in (yes\, we love the nostalgia of old school pen & paper…making you feel like a kid passing notes in class with “Do you like me\, yes or no” boxes).\nGet your matches in 24hours via email.\n\nThat’s it! A fun\, fast night of making new friends and possible love connections. \nGet tickets here: https://www.eventbrite.com/e/in-person-speed-dating-age-25-40-tickets-1973276297525?aff=erelpanelorg
URL:https://hopsnshine.com/event/in-person-speed-dating-ages-25-40/
LOCATION:Hops N Shine\, 3410 Mount Vernon Ave\, Alexandria\, VA\, 22305\, United States
ATTACH;FMTTYPE=image/png:https://hopsnshine.com/wp-content/uploads/2025/12/Hops-N-Shine-Event-Banners-2.0-for-web-4.png
ORGANIZER;CN="Hops N Shine":MAILTO:info@hopsnshine.com
END:VEVENT
BEGIN:VEVENT
DTSTART;TZID=UTC:20240515T183000
DTEND;TZID=UTC:20240515T203000
DTSTAMP:20260422T221910
CREATED:20240221T182716Z
LAST-MODIFIED:20240717T192540Z
UID:1418-1715797800-1715805000@hopsnshine.com
SUMMARY:Wednesday Trivia Night
DESCRIPTION:What’s the best kept secret bar in Del Ray\, known for over 50 drafts and a premium selection of rotation craft beers? \nWednesdays join Hops N Shine for our weekly neighborhood trivia night! \nTrivia begins at 6:30pm\, no cover. Seating is first come\, first serve. \nOur friends from Pour House Trivia host our free trivia night where you and your friends can team up to play for HnS gift cards and swag!
URL:https://hopsnshine.com/event/trivia-night-wed/
LOCATION:Hops N Shine\, 3410 Mount Vernon Ave\, Alexandria\, VA\, 22305\, United States
ATTACH;FMTTYPE=image/png:https://hopsnshine.com/wp-content/uploads/2024/05/HnS-Wednesday-Trivia-Night.png
END:VEVENT
BEGIN:VEVENT
DTSTART;TZID=UTC:20240516T183000
DTEND;TZID=UTC:20240516T203000
DTSTAMP:20260422T221910
CREATED:20240516T070058Z
LAST-MODIFIED:20240717T184445Z
UID:1421-1715884200-1715891400@hopsnshine.com
SUMMARY:Thursday Trivia Night
DESCRIPTION:What’s the best kept secret bar in Del Ray\, known for over 50 drafts and a premium selection of rotation craft beers? \nThursdays join Hops N Shine for our weekly neighborhood trivia night! \nTrivia begins at 6:30pm\, no cover. Seating is first come\, first serve. \nOur friends from Pour House Trivia host our free trivia night where you and your friends can team up to play for HnS gift cards and merch!
URL:https://hopsnshine.com/event/thursday-trivia-night/
ATTACH;FMTTYPE=image/png:https://hopsnshine.com/wp-content/uploads/2024/05/HnS-Thursday-Trivia-Night.png
END:VEVENT
BEGIN:VEVENT
DTSTART;TZID=UTC:20250718T180000
DTEND;TZID=UTC:20250718T210000
DTSTAMP:20260422T221910
CREATED:20250718T184522Z
LAST-MODIFIED:20250718T184522Z
UID:2063-1752861600-1752872400@hopsnshine.com
SUMMARY:Live Music Fridays at Hops N Shine
DESCRIPTION:Enjoy live music every Friday at Hops N Shine from 6-9pm. Local artists from the DMV playing great music. Come enjoy the vibes\, food\, and endless drink options!
URL:https://hopsnshine.com/event/live-music-fridays-at-hops-n-shine/
ATTACH;FMTTYPE=image/png:https://hopsnshine.com/wp-content/uploads/2025/07/Hops-N-Shine-Event-Banners-2.0-for-web-36.png
END:VEVENT
BEGIN:VEVENT
DTSTART;TZID=UTC:20260109T180000
DTEND;TZID=UTC:20260109T210000
DTSTAMP:20260422T221910
CREATED:20260105T190712Z
LAST-MODIFIED:20260105T190712Z
UID:2271-1767981600-1767992400@hopsnshine.com
SUMMARY:Live Music with Lenny Stevens
DESCRIPTION:
URL:https://hopsnshine.com/event/live-music-with-lenny-stevens-4/
LOCATION:Hops N Shine\, 3410 Mount Vernon Ave\, Alexandria\, VA\, 22305\, United States
ORGANIZER;CN="Hops N Shine":MAILTO:info@hopsnshine.com
END:VEVENT
BEGIN:VEVENT
DTSTART;TZID=UTC:20240210T210000
DTEND;TZID=UTC:20240210T230000
DTSTAMP:20260422T221910
CREATED:20240205T193006Z
LAST-MODIFIED:20240715T221942Z
UID:1345-1707598800-1707606000@hopsnshine.com
SUMMARY:Karaoke Night
DESCRIPTION:Join us every Thursday night for our Karaoke Party hosted by . He is a high energy DJ who gets the party started at 9pm! He has mad DJ skills and will turn tables until he gets the Karaoke portion of the night underway by singing some songs himself. Most people have enough liquid courage in them to get on stage and show off their skills! You have more than 50k songs to choose from\, so come on out and sing your favorite tune!!
URL:https://hopsnshine.com/event/karaoke-night-hns/
LOCATION:Hops N Shine\, 3410 Mount Vernon Ave\, Alexandria\, VA\, 22305\, United States
ORGANIZER;CN="Hops N Shine":MAILTO:info@hopsnshine.com
END:VEVENT
BEGIN:VEVENT
DTSTART;TZID=UTC:20240225T130000
DTEND;TZID=UTC:20240225T170000
DTSTAMP:20260422T221910
CREATED:20240221T161826Z
LAST-MODIFIED:20240221T161826Z
UID:1374-1708866000-1708880400@hopsnshine.com
SUMMARY:Kids Arts & Crafts
DESCRIPTION:
URL:https://hopsnshine.com/event/kids-arts-crafts/
END:VEVENT
BEGIN:VEVENT
DTSTART;TZID=UTC:20230410T150000
DTEND;TZID=UTC:20230410T220000
DTSTAMP:20260422T221910
CREATED:20230410T182709Z
LAST-MODIFIED:20240221T174802Z
UID:1078-1681138800-1681164000@hopsnshine.com
SUMMARY:Cigar Night
DESCRIPTION:Every Monday we host Cigar Night on our patio – BYO cigars! \nEnjoy $6 featured drafts including Two Roads Cruise Control Helles Lager\, and $5 bottles of Hardywood Richmond Lager.
URL:https://hopsnshine.com/event/cigar-night/
LOCATION:Hops N Shine\, 3410 Mount Vernon Ave\, Alexandria\, VA\, 22305\, United States
END:VEVENT
BEGIN:VEVENT
DTSTART;TZID=UTC:20240515T183000
DTEND;TZID=UTC:20240515T203000
DTSTAMP:20260422T221910
CREATED:20240221T182716Z
LAST-MODIFIED:20240717T192540Z
UID:1418-1715797800-1715805000@hopsnshine.com
SUMMARY:Wednesday Trivia Night
DESCRIPTION:What’s the best kept secret bar in Del Ray\, known for over 50 drafts and a premium selection of rotation craft beers? \nWednesdays join Hops N Shine for our weekly neighborhood trivia night! \nTrivia begins at 6:30pm\, no cover. Seating is first come\, first serve. \nOur friends from Pour House Trivia host our free trivia night where you and your friends can team up to play for HnS gift cards and swag!
URL:https://hopsnshine.com/event/trivia-night-wed/
LOCATION:Hops N Shine\, 3410 Mount Vernon Ave\, Alexandria\, VA\, 22305\, United States
ATTACH;FMTTYPE=image/png:https://hopsnshine.com/wp-content/uploads/2024/05/HnS-Wednesday-Trivia-Night.png
END:VEVENT
BEGIN:VEVENT
DTSTART;TZID=UTC:20240516T183000
DTEND;TZID=UTC:20240516T203000
DTSTAMP:20260422T221910
CREATED:20240516T070058Z
LAST-MODIFIED:20240717T184445Z
UID:1421-1715884200-1715891400@hopsnshine.com
SUMMARY:Thursday Trivia Night
DESCRIPTION:What’s the best kept secret bar in Del Ray\, known for over 50 drafts and a premium selection of rotation craft beers? \nThursdays join Hops N Shine for our weekly neighborhood trivia night! \nTrivia begins at 6:30pm\, no cover. Seating is first come\, first serve. \nOur friends from Pour House Trivia host our free trivia night where you and your friends can team up to play for HnS gift cards and merch!
URL:https://hopsnshine.com/event/thursday-trivia-night/
ATTACH;FMTTYPE=image/png:https://hopsnshine.com/wp-content/uploads/2024/05/HnS-Thursday-Trivia-Night.png
END:VEVENT
BEGIN:VEVENT
DTSTART;TZID=UTC:20250718T180000
DTEND;TZID=UTC:20250718T210000
DTSTAMP:20260422T221910
CREATED:20250718T184522Z
LAST-MODIFIED:20250718T184522Z
UID:2063-1752861600-1752872400@hopsnshine.com
SUMMARY:Live Music Fridays at Hops N Shine
DESCRIPTION:Enjoy live music every Friday at Hops N Shine from 6-9pm. Local artists from the DMV playing great music. Come enjoy the vibes\, food\, and endless drink options!
URL:https://hopsnshine.com/event/live-music-fridays-at-hops-n-shine/
ATTACH;FMTTYPE=image/png:https://hopsnshine.com/wp-content/uploads/2025/07/Hops-N-Shine-Event-Banners-2.0-for-web-36.png
END:VEVENT
BEGIN:VEVENT
DTSTART;TZID=UTC:20260116T180000
DTEND;TZID=UTC:20260116T210000
DTSTAMP:20260422T221910
CREATED:20260105T185107Z
LAST-MODIFIED:20260106T164936Z
UID:2231-1768586400-1768597200@hopsnshine.com
SUMMARY:Live Music with Nick Tierra
DESCRIPTION:
URL:https://hopsnshine.com/event/live-music-with-nick-tierra/
LOCATION:Hops N Shine\, 3410 Mount Vernon Ave\, Alexandria\, VA\, 22305\, United States
ATTACH;FMTTYPE=image/png:https://hopsnshine.com/wp-content/uploads/2026/01/8.png
ORGANIZER;CN="Hops N Shine":MAILTO:info@hopsnshine.com
END:VEVENT
BEGIN:VEVENT
DTSTART;TZID=UTC:20260117T130000
DTEND;TZID=UTC:20260117T180000
DTSTAMP:20260422T221910
CREATED:20251229T191850Z
LAST-MODIFIED:20251229T191850Z
UID:2206-1768654800-1768672800@hopsnshine.com
SUMMARY:Spiked Hot Drinks Festival
DESCRIPTION:Warm up your winter at Hops N Shine’s Spiked Hot Drinks Festival ☕🔥\nJoin us for an afternoon of cozy comfort and spirited sips featuring a lineup of boozy hot drinks designed to chase away the chill. \nFrom spiked cocoa to warm winter cocktails\, this is the perfect excuse to grab friends\, bundle up\, and settle in for an afternoon of relaxed vibes\, great drinks\, and good company. \n🗓 Saturday\, January 17th\n⏰ 1–6 PM\n📍 Hops N Shine – 3410 Mt. Vernon Ave\, Alexandria\, VA 22305\n🎟 Free Entry \nWhether you’re stopping by for a quick warm-up or staying for a few rounds\, this festival is all about sipping\, savoring\, and soaking in the season. \nCome for the heat. Stay for the spirit. 🍻✨
URL:https://hopsnshine.com/event/spiked-hot-drinks-festival/
LOCATION:Hops N Shine\, 3410 Mount Vernon Ave\, Alexandria\, VA\, 22305\, United States
ATTACH;FMTTYPE=image/png:https://hopsnshine.com/wp-content/uploads/2025/12/9.png
ORGANIZER;CN="Hops N Shine":MAILTO:info@hopsnshine.com
END:VEVENT
BEGIN:VEVENT
DTSTART;TZID=UTC:20240210T210000
DTEND;TZID=UTC:20240210T230000
DTSTAMP:20260422T221910
CREATED:20240205T193006Z
LAST-MODIFIED:20240715T221942Z
UID:1345-1707598800-1707606000@hopsnshine.com
SUMMARY:Karaoke Night
DESCRIPTION:Join us every Thursday night for our Karaoke Party hosted by . He is a high energy DJ who gets the party started at 9pm! He has mad DJ skills and will turn tables until he gets the Karaoke portion of the night underway by singing some songs himself. Most people have enough liquid courage in them to get on stage and show off their skills! You have more than 50k songs to choose from\, so come on out and sing your favorite tune!!
URL:https://hopsnshine.com/event/karaoke-night-hns/
LOCATION:Hops N Shine\, 3410 Mount Vernon Ave\, Alexandria\, VA\, 22305\, United States
ORGANIZER;CN="Hops N Shine":MAILTO:info@hopsnshine.com
END:VEVENT
BEGIN:VEVENT
DTSTART;TZID=UTC:20240225T130000
DTEND;TZID=UTC:20240225T170000
DTSTAMP:20260422T221910
CREATED:20240221T161826Z
LAST-MODIFIED:20240221T161826Z
UID:1374-1708866000-1708880400@hopsnshine.com
SUMMARY:Kids Arts & Crafts
DESCRIPTION:
URL:https://hopsnshine.com/event/kids-arts-crafts/
END:VEVENT
BEGIN:VEVENT
DTSTART;TZID=UTC:20230410T150000
DTEND;TZID=UTC:20230410T220000
DTSTAMP:20260422T221910
CREATED:20230410T182709Z
LAST-MODIFIED:20240221T174802Z
UID:1078-1681138800-1681164000@hopsnshine.com
SUMMARY:Cigar Night
DESCRIPTION:Every Monday we host Cigar Night on our patio – BYO cigars! \nEnjoy $6 featured drafts including Two Roads Cruise Control Helles Lager\, and $5 bottles of Hardywood Richmond Lager.
URL:https://hopsnshine.com/event/cigar-night/
LOCATION:Hops N Shine\, 3410 Mount Vernon Ave\, Alexandria\, VA\, 22305\, United States
END:VEVENT
BEGIN:VEVENT
DTSTART;TZID=UTC:20240515T183000
DTEND;TZID=UTC:20240515T203000
DTSTAMP:20260422T221910
CREATED:20240221T182716Z
LAST-MODIFIED:20240717T192540Z
UID:1418-1715797800-1715805000@hopsnshine.com
SUMMARY:Wednesday Trivia Night
DESCRIPTION:What’s the best kept secret bar in Del Ray\, known for over 50 drafts and a premium selection of rotation craft beers? \nWednesdays join Hops N Shine for our weekly neighborhood trivia night! \nTrivia begins at 6:30pm\, no cover. Seating is first come\, first serve. \nOur friends from Pour House Trivia host our free trivia night where you and your friends can team up to play for HnS gift cards and swag!
URL:https://hopsnshine.com/event/trivia-night-wed/
LOCATION:Hops N Shine\, 3410 Mount Vernon Ave\, Alexandria\, VA\, 22305\, United States
ATTACH;FMTTYPE=image/png:https://hopsnshine.com/wp-content/uploads/2024/05/HnS-Wednesday-Trivia-Night.png
END:VEVENT
BEGIN:VEVENT
DTSTART;TZID=UTC:20240516T183000
DTEND;TZID=UTC:20240516T203000
DTSTAMP:20260422T221910
CREATED:20240516T070058Z
LAST-MODIFIED:20240717T184445Z
UID:1421-1715884200-1715891400@hopsnshine.com
SUMMARY:Thursday Trivia Night
DESCRIPTION:What’s the best kept secret bar in Del Ray\, known for over 50 drafts and a premium selection of rotation craft beers? \nThursdays join Hops N Shine for our weekly neighborhood trivia night! \nTrivia begins at 6:30pm\, no cover. Seating is first come\, first serve. \nOur friends from Pour House Trivia host our free trivia night where you and your friends can team up to play for HnS gift cards and merch!
URL:https://hopsnshine.com/event/thursday-trivia-night/
ATTACH;FMTTYPE=image/png:https://hopsnshine.com/wp-content/uploads/2024/05/HnS-Thursday-Trivia-Night.png
END:VEVENT
BEGIN:VEVENT
DTSTART;TZID=UTC:20260123T110000
DTEND;TZID=UTC:20260201T220000
DTSTAMP:20260422T221910
CREATED:20251226T172050Z
LAST-MODIFIED:20251226T172050Z
UID:2200-1769166000-1769983200@hopsnshine.com
SUMMARY:Alexandria Restaurant Week
DESCRIPTION:
URL:https://hopsnshine.com/event/alexandria-restaurant-week-2/
LOCATION:Hops N Shine\, 3410 Mount Vernon Ave\, Alexandria\, VA\, 22305\, United States
ATTACH;FMTTYPE=image/png:https://hopsnshine.com/wp-content/uploads/2025/12/RestaurantWeekFBCover22.png
ORGANIZER;CN="Hops N Shine":MAILTO:info@hopsnshine.com
END:VEVENT
BEGIN:VEVENT
DTSTART;TZID=UTC:20250718T180000
DTEND;TZID=UTC:20250718T210000
DTSTAMP:20260422T221910
CREATED:20250718T184522Z
LAST-MODIFIED:20250718T184522Z
UID:2063-1752861600-1752872400@hopsnshine.com
SUMMARY:Live Music Fridays at Hops N Shine
DESCRIPTION:Enjoy live music every Friday at Hops N Shine from 6-9pm. Local artists from the DMV playing great music. Come enjoy the vibes\, food\, and endless drink options!
URL:https://hopsnshine.com/event/live-music-fridays-at-hops-n-shine/
ATTACH;FMTTYPE=image/png:https://hopsnshine.com/wp-content/uploads/2025/07/Hops-N-Shine-Event-Banners-2.0-for-web-36.png
END:VEVENT
BEGIN:VEVENT
DTSTART;TZID=UTC:20260123T180000
DTEND;TZID=UTC:20260123T210000
DTSTAMP:20260422T221910
CREATED:20260105T185156Z
LAST-MODIFIED:20260106T165039Z
UID:2233-1769191200-1769202000@hopsnshine.com
SUMMARY:Live Music with Adam Knudsen
DESCRIPTION:
URL:https://hopsnshine.com/event/live-music-with-adam-knudsen/
LOCATION:Hops N Shine\, 3410 Mount Vernon Ave\, Alexandria\, VA\, 22305\, United States
ATTACH;FMTTYPE=image/png:https://hopsnshine.com/wp-content/uploads/2026/01/7.png
ORGANIZER;CN="Hops N Shine":MAILTO:info@hopsnshine.com
END:VEVENT
BEGIN:VEVENT
DTSTART;TZID=UTC:20240210T210000
DTEND;TZID=UTC:20240210T230000
DTSTAMP:20260422T221910
CREATED:20240205T193006Z
LAST-MODIFIED:20240715T221942Z
UID:1345-1707598800-1707606000@hopsnshine.com
SUMMARY:Karaoke Night
DESCRIPTION:Join us every Thursday night for our Karaoke Party hosted by . He is a high energy DJ who gets the party started at 9pm! He has mad DJ skills and will turn tables until he gets the Karaoke portion of the night underway by singing some songs himself. Most people have enough liquid courage in them to get on stage and show off their skills! You have more than 50k songs to choose from\, so come on out and sing your favorite tune!!
URL:https://hopsnshine.com/event/karaoke-night-hns/
LOCATION:Hops N Shine\, 3410 Mount Vernon Ave\, Alexandria\, VA\, 22305\, United States
ORGANIZER;CN="Hops N Shine":MAILTO:info@hopsnshine.com
END:VEVENT
BEGIN:VEVENT
DTSTART;TZID=UTC:20240225T130000
DTEND;TZID=UTC:20240225T170000
DTSTAMP:20260422T221910
CREATED:20240221T161826Z
LAST-MODIFIED:20240221T161826Z
UID:1374-1708866000-1708880400@hopsnshine.com
SUMMARY:Kids Arts & Crafts
DESCRIPTION:
URL:https://hopsnshine.com/event/kids-arts-crafts/
END:VEVENT
BEGIN:VEVENT
DTSTART;TZID=UTC:20230410T150000
DTEND;TZID=UTC:20230410T220000
DTSTAMP:20260422T221910
CREATED:20230410T182709Z
LAST-MODIFIED:20240221T174802Z
UID:1078-1681138800-1681164000@hopsnshine.com
SUMMARY:Cigar Night
DESCRIPTION:Every Monday we host Cigar Night on our patio – BYO cigars! \nEnjoy $6 featured drafts including Two Roads Cruise Control Helles Lager\, and $5 bottles of Hardywood Richmond Lager.
URL:https://hopsnshine.com/event/cigar-night/
LOCATION:Hops N Shine\, 3410 Mount Vernon Ave\, Alexandria\, VA\, 22305\, United States
END:VEVENT
BEGIN:VEVENT
DTSTART;TZID=UTC:20240515T183000
DTEND;TZID=UTC:20240515T203000
DTSTAMP:20260422T221910
CREATED:20240221T182716Z
LAST-MODIFIED:20240717T192540Z
UID:1418-1715797800-1715805000@hopsnshine.com
SUMMARY:Wednesday Trivia Night
DESCRIPTION:What’s the best kept secret bar in Del Ray\, known for over 50 drafts and a premium selection of rotation craft beers? \nWednesdays join Hops N Shine for our weekly neighborhood trivia night! \nTrivia begins at 6:30pm\, no cover. Seating is first come\, first serve. \nOur friends from Pour House Trivia host our free trivia night where you and your friends can team up to play for HnS gift cards and swag!
URL:https://hopsnshine.com/event/trivia-night-wed/
LOCATION:Hops N Shine\, 3410 Mount Vernon Ave\, Alexandria\, VA\, 22305\, United States
ATTACH;FMTTYPE=image/png:https://hopsnshine.com/wp-content/uploads/2024/05/HnS-Wednesday-Trivia-Night.png
END:VEVENT
BEGIN:VEVENT
DTSTART;TZID=UTC:20240516T183000
DTEND;TZID=UTC:20240516T203000
DTSTAMP:20260422T221910
CREATED:20240516T070058Z
LAST-MODIFIED:20240717T184445Z
UID:1421-1715884200-1715891400@hopsnshine.com
SUMMARY:Thursday Trivia Night
DESCRIPTION:What’s the best kept secret bar in Del Ray\, known for over 50 drafts and a premium selection of rotation craft beers? \nThursdays join Hops N Shine for our weekly neighborhood trivia night! \nTrivia begins at 6:30pm\, no cover. Seating is first come\, first serve. \nOur friends from Pour House Trivia host our free trivia night where you and your friends can team up to play for HnS gift cards and merch!
URL:https://hopsnshine.com/event/thursday-trivia-night/
ATTACH;FMTTYPE=image/png:https://hopsnshine.com/wp-content/uploads/2024/05/HnS-Thursday-Trivia-Night.png
END:VEVENT
BEGIN:VEVENT
DTSTART;TZID=UTC:20250718T180000
DTEND;TZID=UTC:20250718T210000
DTSTAMP:20260422T221910
CREATED:20250718T184522Z
LAST-MODIFIED:20250718T184522Z
UID:2063-1752861600-1752872400@hopsnshine.com
SUMMARY:Live Music Fridays at Hops N Shine
DESCRIPTION:Enjoy live music every Friday at Hops N Shine from 6-9pm. Local artists from the DMV playing great music. Come enjoy the vibes\, food\, and endless drink options!
URL:https://hopsnshine.com/event/live-music-fridays-at-hops-n-shine/
ATTACH;FMTTYPE=image/png:https://hopsnshine.com/wp-content/uploads/2025/07/Hops-N-Shine-Event-Banners-2.0-for-web-36.png
END:VEVENT
BEGIN:VEVENT
DTSTART;TZID=UTC:20260130T180000
DTEND;TZID=UTC:20260130T210000
DTSTAMP:20260422T221910
CREATED:20260105T185244Z
LAST-MODIFIED:20260106T165134Z
UID:2235-1769796000-1769806800@hopsnshine.com
SUMMARY:Live Music with Mike Leverone
DESCRIPTION:
URL:https://hopsnshine.com/event/live-music-with-mike-leverone/
LOCATION:Hops N Shine\, 3410 Mount Vernon Ave\, Alexandria\, VA\, 22305\, United States
ATTACH;FMTTYPE=image/png:https://hopsnshine.com/wp-content/uploads/2026/01/6.png
ORGANIZER;CN="Hops N Shine":MAILTO:info@hopsnshine.com
END:VEVENT
BEGIN:VEVENT
DTSTART;TZID=UTC:20240210T210000
DTEND;TZID=UTC:20240210T230000
DTSTAMP:20260422T221910
CREATED:20240205T193006Z
LAST-MODIFIED:20240715T221942Z
UID:1345-1707598800-1707606000@hopsnshine.com
SUMMARY:Karaoke Night
DESCRIPTION:Join us every Thursday night for our Karaoke Party hosted by . He is a high energy DJ who gets the party started at 9pm! He has mad DJ skills and will turn tables until he gets the Karaoke portion of the night underway by singing some songs himself. Most people have enough liquid courage in them to get on stage and show off their skills! You have more than 50k songs to choose from\, so come on out and sing your favorite tune!!
URL:https://hopsnshine.com/event/karaoke-night-hns/
LOCATION:Hops N Shine\, 3410 Mount Vernon Ave\, Alexandria\, VA\, 22305\, United States
ORGANIZER;CN="Hops N Shine":MAILTO:info@hopsnshine.com
END:VEVENT
END:VCALENDAR